BEGIN:VCALENDAR
VERSION:2.0
PRODID:-//Lions Clb Klosterneuburg Babenberg - ECPv6.15.20//NONSGML v1.0//EN
CALSCALE:GREGORIAN
METHOD:PUBLISH
X-ORIGINAL-URL:https://lions.charity
X-WR-CALDESC:Veranstaltungen für Lions Clb Klosterneuburg Babenberg
REFRESH-INTERVAL;VALUE=DURATION:PT1H
X-Robots-Tag:noindex
X-PUBLISHED-TTL:PT1H
BEGIN:VTIMEZONE
TZID:Europe/Vienna
BEGIN:DAYLIGHT
TZOFFSETFROM:+0100
TZOFFSETTO:+0200
TZNAME:CEST
DTSTART:20240331T010000
END:DAYLIGHT
BEGIN:STANDARD
TZOFFSETFROM:+0200
TZOFFSETTO:+0100
TZNAME:CET
DTSTART:20241027T010000
END:STANDARD
BEGIN:DAYLIGHT
TZOFFSETFROM:+0100
TZOFFSETTO:+0200
TZNAME:CEST
DTSTART:20250330T010000
END:DAYLIGHT
BEGIN:STANDARD
TZOFFSETFROM:+0200
TZOFFSETTO:+0100
TZNAME:CET
DTSTART:20251026T010000
END:STANDARD
BEGIN:DAYLIGHT
TZOFFSETFROM:+0100
TZOFFSETTO:+0200
TZNAME:CEST
DTSTART:20260329T010000
END:DAYLIGHT
BEGIN:STANDARD
TZOFFSETFROM:+0200
TZOFFSETTO:+0100
TZNAME:CET
DTSTART:20261025T010000
END:STANDARD
END:VTIMEZONE
BEGIN:VEVENT
DTSTART;TZID=Europe/Vienna:20251108T193000
DTEND;TZID=Europe/Vienna:20251108T220000
DTSTAMP:20260421T184847
CREATED:20251008T172842Z
LAST-MODIFIED:20251028T065802Z
UID:10000109-1762630200-1762639200@lions.charity
SUMMARY:Tiny Jazz / Fusion Beyond
DESCRIPTION:Tiny Jazz – Eine Konzertreihe mit Herz und Zukunft \n\n\n\nSeit 2022 veranstaltet der Lions Club Klosterneuburg-Babenberg die Reihe Tiny Jazz – eine musikalische Plattform zur Förderung junger Jazz-Talente.Inzwischen ist daraus weit mehr geworden: Eine Bühne\, auf der Musikschüler:innen und teilweise bereits Studierende\, nicht nur spielen\, sondern selbstständig organisieren\, gestalten und leiten – vom Line-up bis zur Moderation. \n\n\n\n\n\n\n\nMit der Musikschule Klosterneuburg als künstlerischem Rückgrat\, Elternverein & Lions Club als unterstützende Partner und dem BG/BRG Klosterneuburg als Gastgeber ist Tiny Jazz zu einem echten Gemeinschaftsprojekt gewachsen. \n\n\n\n💛 Das Besondere:Der gesamte Erlös geht direkt an die beteiligten Schüler:innen – Musiker:innen\, Technik\, Moderation und Organisation. Eine echte Investition in junge Kultur – transparent\, direkt\, wirksam. \n\n\n\n\n\n\n\n🎶 Tiny Jazz IX – Fusion Beyond\n\n\n\n2025 zeigt sich Tiny Jazz neuer denn je:Nicht in festen Ensembles\, sondern in frei kuratierten Formationen.Ein Abend voller mutiger Fusionen\, kreativer Arrangements und spürbarer musikalischer Entwicklung – eine Reise „beyond“ klassischer Strukturen. \n\n\n\nKünstlerischer Dank gilt Luca Pelanda und dem Lehrer:innenteam der Musikschule\, die durch Engagement und Leidenschaft diese Entwicklung ermöglichen. Insbesondere: Tobias Meissl\, Gregor Aufmesser\, Urs Hager\, Gert Haussner\, Herwig Gradischnig und Ádám Ladányi.  \n\n\n\nEmotionaler Lohn: Ein begeistertes Publikum\, frenetischer Applaus – Motivation pur für ein weiteres Jahr voller Musik. Das wäre jetzt ihr Part! Also ran an die Tickets. Vergessen Sie nicht\, gleich für Freunde und Familie mitzudenken\, die Musiker:innen werden es Ihnen danken!
URL:https://lions.charity/event/tiny-jazz-fusion-beyond/
LOCATION:BG-BRG Klosterneuburg – Gymnasium\, Buchberggasse 31\, Klosterneuburg\, Niederösterreich\, 3400\, Austria
ATTACH;FMTTYPE=image/jpeg:https://lions.charity/wp-content/uploads/2025/10/Tiny-Best-47.jpg
ORGANIZER;CN="Lions Club Klosterneuburg-Babenberg":MAILTO:klosterneuburg@lions.charity
END:VEVENT
END:VCALENDAR