BEGIN:VCALENDAR
VERSION:2.0
PRODID:-//Lions Clb Klosterneuburg Babenberg - ECPv6.15.20//NONSGML v1.0//EN
CALSCALE:GREGORIAN
METHOD:PUBLISH
X-WR-CALNAME:Lions Clb Klosterneuburg Babenberg
X-ORIGINAL-URL:https://lions.charity
X-WR-CALDESC:Veranstaltungen für Lions Clb Klosterneuburg Babenberg
REFRESH-INTERVAL;VALUE=DURATION:PT1H
X-Robots-Tag:noindex
X-PUBLISHED-TTL:PT1H
BEGIN:VTIMEZONE
TZID:Europe/Vienna
BEGIN:DAYLIGHT
TZOFFSETFROM:+0100
TZOFFSETTO:+0200
TZNAME:CEST
DTSTART:20240331T010000
END:DAYLIGHT
BEGIN:STANDARD
TZOFFSETFROM:+0200
TZOFFSETTO:+0100
TZNAME:CET
DTSTART:20241027T010000
END:STANDARD
BEGIN:DAYLIGHT
TZOFFSETFROM:+0100
TZOFFSETTO:+0200
TZNAME:CEST
DTSTART:20250330T010000
END:DAYLIGHT
BEGIN:STANDARD
TZOFFSETFROM:+0200
TZOFFSETTO:+0100
TZNAME:CET
DTSTART:20251026T010000
END:STANDARD
BEGIN:DAYLIGHT
TZOFFSETFROM:+0100
TZOFFSETTO:+0200
TZNAME:CEST
DTSTART:20260329T010000
END:DAYLIGHT
BEGIN:STANDARD
TZOFFSETFROM:+0200
TZOFFSETTO:+0100
TZNAME:CET
DTSTART:20261025T010000
END:STANDARD
END:VTIMEZONE
BEGIN:VEVENT
DTSTART;TZID=Europe/Vienna:20250913T100000
DTEND;TZID=Europe/Vienna:20250913T130000
DTSTAMP:20260421T222452
CREATED:20250326T085153Z
LAST-MODIFIED:20250826T090457Z
UID:10000104-1757757600-1757768400@lions.charity
SUMMARY:3. Sammeltag für Lions Flohmarkt
DESCRIPTION:Lions Flohmarkt 2025 – Sammeltage in der Kaserne Klosterneuburg \n\n\n\nDer beliebte Lions Flohmarkt Klosterneuburg findet in diesem Jahr erstmals auf dem Kasernengelände in der Magdeburggasse 9\, 3400 Klosterneuburg statt. 26.09.-28.09. 2025 \n\n\n\n3. Sammeltag für den Lions Flohmarkt 2025! Bringen Sie Ihre Sachspenden am 13. September 2025 von 10:00 bis 13:00 Uhr zur Kaserne Klosterneuburg\, Magdeburggasse 9. Unterstützen Sie soziale Projekte mit Ihrer Spende! Mehr Infos auf www.lions.charity. \n\n\n\nDamit wir den Flohmarkt wieder zu einem vollen Erfolg machen können\, freuen wir uns auf Ihre großartigen Sachspenden! Alles\, was sich für einen guten Zweck weitergeben lässt\, ist herzlich willkommen: Kleidung\, Spielzeug\, Bücher\, Schmuck\, Haushaltsgeräte\, Elektronik\, Antiquitäten und vieles mehr! \n\n\n\n📅 Sammeltage:\n\n\n\n\nSammeltag: Samstag\,  13. September 2025\, 10:00 – 13:00 Uhr\n\n\n\nSammeltag: Samstag\,  20. September 2025\, 10:00 – 13:00 Uhr\n\n\n\n\nBringen Sie Ihre Sachspenden einfach an den genannten Tagen zur Kaserne Klosterneuburg. Unser Lions-Team freut sich darauf\, Sie persönlich zu begrüßen und Ihre Spenden entgegenzunehmen. \n\n\n\n💛 Warum mitmachen?\n\n\n\nMit Ihren Spenden helfen Sie uns\, Menschen in Not unbürokratisch und rasch zu unterstützen. Der Reinerlös des Flohmarkts wird zu 100 % für soziale Projekte in unserer Region verwendet. \n\n\n\n🌐 Weitere Informationen:\n\n\n\nBesuchen Sie uns auch auf unserer Homepage unter www.lions.charity für aktuelle Informationen und weitere Veranstaltungen! \n\n\n\nHerzlichen Dank für Ihre Unterstützung!Ihr Lions Club Klosterneuburg-Babenberg
URL:https://lions.charity/event/3-sammeltag-fuer-lions-flohmarkt/
LOCATION:Kaserne Klosterneuburg\, Magdeburggasse 9\, Klosterneuburg\, Niederösterreich\, 3400\, Österreich
CATEGORIES:Flohmarkt,Sammeltage
ATTACH;FMTTYPE=image/jpeg:https://lions.charity/wp-content/uploads/2025/03/Flohmarkt_FB-Banner-all-3.jpg
ORGANIZER;CN="Lions Club Klosterneuburg-Babenberg":MAILTO:klosterneuburg@lions.charity
END:VEVENT
BEGIN:VEVENT
DTSTART;TZID=Europe/Vienna:20250920T100000
DTEND;TZID=Europe/Vienna:20250920T130000
DTSTAMP:20260421T222452
CREATED:20250826T090200Z
LAST-MODIFIED:20250826T090354Z
UID:10000106-1758362400-1758373200@lions.charity
SUMMARY:4. Sammeltag für Lions Flohmarkt
DESCRIPTION:Lions Flohmarkt 2025 – Sammeltage in der Kaserne Klosterneuburg \n\n\n\nDer beliebte Lions Flohmarkt Klosterneuburg findet in diesem Jahr erstmals auf dem Kasernengelände in der Magdeburggasse 9\, 3400 Klosterneuburg statt. 26.09.-28.09. 2025 \n\n\n\n4. Sammeltag für den Lions Flohmarkt 2025! Bringen Sie Ihre Sachspenden am Samstag den 20. September 2025 von 10:00 bis 13:00 Uhr zur Kaserne Klosterneuburg\, Magdeburggasse 9. Unterstützen Sie soziale Projekte mit Ihrer Spende! Mehr Infos auf www.lions.charity. \n\n\n\nDamit wir den Flohmarkt wieder zu einem vollen Erfolg machen können\, freuen wir uns auf Ihre großartigen Sachspenden! Alles\, was sich für einen guten Zweck weitergeben lässt\, ist herzlich willkommen: Kleidung\, Spielzeug\, Bücher\, Schmuck\, Haushaltsgeräte\, Elektronik\, Antiquitäten und vieles mehr! \n\n\n\n📅 Sammeltage:\n\n\n\n\nSammeltag: Samstag\, 13. September 2025\, 10:00 – 13:00 Uhr\n\n\n\nSammeltag: Samstag\,  20. September 2025\, 10:00 – 13:00 Uhr\n\n\n\n\nBringen Sie Ihre Sachspenden einfach an den genannten Tagen zur Kaserne Klosterneuburg. Unser Lions-Team freut sich darauf\, Sie persönlich zu begrüßen und Ihre Spenden entgegenzunehmen. \n\n\n\n💛 Warum mitmachen?\n\n\n\nMit Ihren Spenden helfen Sie uns\, Menschen in Not unbürokratisch und rasch zu unterstützen. Der Reinerlös des Flohmarkts wird zu 100 % für soziale Projekte in unserer Region verwendet. \n\n\n\n🌐 Weitere Informationen:\n\n\n\nBesuchen Sie uns auch auf unserer Homepage unter www.lions.charity für aktuelle Informationen und weitere Veranstaltungen! \n\n\n\nHerzlichen Dank für Ihre Unterstützung!Ihr Lions Club Klosterneuburg-Babenberg
URL:https://lions.charity/event/4-sammeltag-fuer-lions-flohmarkt/
LOCATION:Kaserne Klosterneuburg\, Magdeburggasse 9\, Klosterneuburg\, Niederösterreich\, 3400\, Österreich
CATEGORIES:Flohmarkt,Sammeltage
ATTACH;FMTTYPE=image/jpeg:https://lions.charity/wp-content/uploads/2025/03/Flohmarkt_FB-Banner-all-3.jpg
ORGANIZER;CN="Lions Club Klosterneuburg-Babenberg":MAILTO:klosterneuburg@lions.charity
END:VEVENT
BEGIN:VEVENT
DTSTART;TZID=Europe/Vienna:20250926T140000
DTEND;TZID=Europe/Vienna:20250928T130000
DTSTAMP:20260421T222452
CREATED:20250326T130050Z
LAST-MODIFIED:20250918T034541Z
UID:10000105-1758895200-1759064400@lions.charity
SUMMARY:Lions Flohmarkt 2025 (Kaserne)
DESCRIPTION:🟥 ACHTUNG: 2025 FLOHMARKT IN DER KASERNE 🟥 \n\n\n\nNeuer Ort – neues Datum – bewährte Gemeinschaft!\n\n\n\nDer beliebte Lions Flohmarkt Klosterneuburg findet in diesem Jahr erstmals auf dem Kasernengelände in der Magdeburggasse 9\, 3400 Klosterneuburg statt.  \n\n\n\nSeit 50 Jahren sind die Lions ein fester Bestandteil des sozialen Engagements in Klosterneuburg. Seit 47 Jahren findet der Flohmarkt statt – heuer erstmals bereits 🟥 Ende September 🟥 und neu in der Kaserne Klosterneuburg statt. \n\n\n\nÖFFNUNGSZEITEN FLOHMARKT – 2025 in der KaserneFreitag\, 26. September | 14:00 – 18:00 UhrSamstag\, 27. September | 10:00 – 18:00 UhrSonntag\, 28. September | 10:00 – 13:00 Uhr \n\n\n\nDamit wir den Flohmarkt wieder zu einem vollen Erfolg machen können\, freuen wir uns auf Ihre großartigen Sachspenden! Alles\, was sich für einen guten Zweck weitergeben lässt\, ist herzlich willkommen: Kleidung\, Spielzeug\, Bücher\, Schmuck\, Haushaltsgeräte\, Elektronik\, Antiquitäten und vieles mehr! Hier die Termine: \n\n\n\nSAMMELTAGE – Ihre Spenden zählenSamstag\, 13. September | 10:00 – 13:00 UhrSamstag\, 20. September | 10:00 – 13:00 Uhrwww.lions.charity \n\n\n\nBringen Sie Ihre Sachspenden einfach an den genannten Tagen zur Kaserne Klosterneuburg. Unser Lions-Team freut sich darauf\, Sie persönlich zu begrüßen und Ihre Spenden entgegenzunehmen. \n\n\n\n💛 Warum mitmachen?\n\n\n\nMit Ihren Spenden helfen Sie uns\, Menschen in Not unbürokratisch und rasch zu unterstützen. Der Reinerlös des Flohmarkts wird zu 100 % für soziale Projekte in unserer Region verwendet. \n\n\n\n🌐 Weitere Informationen:\n\n\n\nBesuchen Sie uns auch auf unserer Homepage unter www.lions.charity für aktuelle Informationen und weitere Veranstaltungen! \n\n\n\nHerzlichen Dank für Ihre Unterstützung!Ihr Lions Club Klosterneuburg-Babenberg
URL:https://lions.charity/event/lions-flohmarkt-2025-kaserne/
LOCATION:Kaserne Klosterneuburg\, Magdeburggasse 9\, Klosterneuburg\, Niederösterreich\, 3400\, Österreich
CATEGORIES:Flohmarkt,Sammeltage
ATTACH;FMTTYPE=image/jpeg:https://lions.charity/wp-content/uploads/2025/03/Flohmarkt_FB-Banner-all-3.jpg
ORGANIZER;CN="Lions Club Klosterneuburg-Babenberg":MAILTO:klosterneuburg@lions.charity
END:VEVENT
END:VCALENDAR