BEGIN:VCALENDAR
VERSION:2.0
PRODID:-//Lions Clb Klosterneuburg Babenberg - ECPv6.15.20//NONSGML v1.0//EN
CALSCALE:GREGORIAN
METHOD:PUBLISH
X-ORIGINAL-URL:https://lions.charity
X-WR-CALDESC:Veranstaltungen für Lions Clb Klosterneuburg Babenberg
REFRESH-INTERVAL;VALUE=DURATION:PT1H
X-Robots-Tag:noindex
X-PUBLISHED-TTL:PT1H
BEGIN:VTIMEZONE
TZID:Europe/Vienna
BEGIN:DAYLIGHT
TZOFFSETFROM:+0100
TZOFFSETTO:+0200
TZNAME:CEST
DTSTART:20240331T010000
END:DAYLIGHT
BEGIN:STANDARD
TZOFFSETFROM:+0200
TZOFFSETTO:+0100
TZNAME:CET
DTSTART:20241027T010000
END:STANDARD
BEGIN:DAYLIGHT
TZOFFSETFROM:+0100
TZOFFSETTO:+0200
TZNAME:CEST
DTSTART:20250330T010000
END:DAYLIGHT
BEGIN:STANDARD
TZOFFSETFROM:+0200
TZOFFSETTO:+0100
TZNAME:CET
DTSTART:20251026T010000
END:STANDARD
BEGIN:DAYLIGHT
TZOFFSETFROM:+0100
TZOFFSETTO:+0200
TZNAME:CEST
DTSTART:20260329T010000
END:DAYLIGHT
BEGIN:STANDARD
TZOFFSETFROM:+0200
TZOFFSETTO:+0100
TZNAME:CET
DTSTART:20261025T010000
END:STANDARD
END:VTIMEZONE
BEGIN:VEVENT
DTSTART;TZID=Europe/Vienna:20250405T100000
DTEND;TZID=Europe/Vienna:20250405T130000
DTSTAMP:20260422T074740
CREATED:20250326T074035Z
LAST-MODIFIED:20250326T085533Z
UID:10000102-1743847200-1743858000@lions.charity
SUMMARY:1. Sammeltag für Lions Flohmarkt
DESCRIPTION:Lions Flohmarkt 2025 – Sammeltage in der Kaserne Klosterneuburg \n\n\n\nDer beliebte Lions Flohmarkt Klosterneuburg findet in diesem Jahr erstmals auf dem Kasernengelände in der Magdeburggasse 9\, 3400 Klosterneuburg statt.  \n\n\n\nErster Sammeltag für den Lions Flohmarkt 2025! Bringen Sie Ihre Sachspenden am 5. April 2025 von 10:00 bis 13:00 Uhr zur Kaserne Klosterneuburg\, Magdeburggasse 9. Unterstützen Sie soziale Projekte mit Ihrer Spende! Mehr Infos auf www.lions.charity. \n\n\n\nDamit wir den Flohmarkt wieder zu einem vollen Erfolg machen können\, freuen wir uns auf Ihre großartigen Sachspenden! Alles\, was sich für einen guten Zweck weitergeben lässt\, ist herzlich willkommen: Kleidung\, Spielzeug\, Bücher\, Schmuck\, Haushaltsgeräte\, Elektronik\, Antiquitäten und vieles mehr! \n\n\n\n📅 Sammeltage:\n\n\n\n\n1. Sammeltag: Samstag\, 05. April 2025\, 10:00 – 13:00 Uhr\n\n\n\n2. Sammeltag: Samstag\, 24. Mai 2025\, 10:00 – 13:00 Uhr\n\n\n\n3. Sammeltag: Mittwoch\, 13. September 2025\, 10:00 – 13:00 Uhr\n\n\n\n\nBringen Sie Ihre Sachspenden einfach an den genannten Tagen zur Kaserne Klosterneuburg. Unser Lions-Team freut sich darauf\, Sie persönlich zu begrüßen und Ihre Spenden entgegenzunehmen. \n\n\n\n💛 Warum mitmachen?\n\n\n\nMit Ihren Spenden helfen Sie uns\, Menschen in Not unbürokratisch und rasch zu unterstützen. Der Reinerlös des Flohmarkts wird zu 100 % für soziale Projekte in unserer Region verwendet. \n\n\n\n🌐 Weitere Informationen:\n\n\n\nBesuchen Sie uns auch auf unserer Homepage unter www.lions.charity für aktuelle Informationen und weitere Veranstaltungen! \n\n\n\nHerzlichen Dank für Ihre Unterstützung!Ihr Lions Club Klosterneuburg-Babenberg
URL:https://lions.charity/event/1-sammeltag-fuer-lions-flohmarkt/
LOCATION:Kaserne Klosterneuburg\, Magdeburggasse 9\, Klosterneuburg\, Niederösterreich\, 3400\, Österreich
CATEGORIES:Flohmarkt,Sammeltage
ATTACH;FMTTYPE=image/jpeg:https://lions.charity/wp-content/uploads/2025/03/Flohmarkt_FB-Banner-all-3.jpg
ORGANIZER;CN="Lions Club Klosterneuburg-Babenberg":MAILTO:klosterneuburg@lions.charity
END:VEVENT
END:VCALENDAR