BEGIN:VCALENDAR
VERSION:2.0
PRODID:-//Lions Clb Klosterneuburg Babenberg - ECPv6.15.20//NONSGML v1.0//EN
CALSCALE:GREGORIAN
METHOD:PUBLISH
X-ORIGINAL-URL:https://lions.charity
X-WR-CALDESC:Veranstaltungen für Lions Clb Klosterneuburg Babenberg
REFRESH-INTERVAL;VALUE=DURATION:PT1H
X-Robots-Tag:noindex
X-PUBLISHED-TTL:PT1H
BEGIN:VTIMEZONE
TZID:Europe/Vienna
BEGIN:DAYLIGHT
TZOFFSETFROM:+0100
TZOFFSETTO:+0200
TZNAME:CEST
DTSTART:20240331T010000
END:DAYLIGHT
BEGIN:STANDARD
TZOFFSETFROM:+0200
TZOFFSETTO:+0100
TZNAME:CET
DTSTART:20241027T010000
END:STANDARD
BEGIN:DAYLIGHT
TZOFFSETFROM:+0100
TZOFFSETTO:+0200
TZNAME:CEST
DTSTART:20250330T010000
END:DAYLIGHT
BEGIN:STANDARD
TZOFFSETFROM:+0200
TZOFFSETTO:+0100
TZNAME:CET
DTSTART:20251026T010000
END:STANDARD
BEGIN:DAYLIGHT
TZOFFSETFROM:+0100
TZOFFSETTO:+0200
TZNAME:CEST
DTSTART:20260329T010000
END:DAYLIGHT
BEGIN:STANDARD
TZOFFSETFROM:+0200
TZOFFSETTO:+0100
TZNAME:CET
DTSTART:20261025T010000
END:STANDARD
END:VTIMEZONE
BEGIN:VEVENT
DTSTART;TZID=Europe/Vienna:20250303T170000
DTEND;TZID=Europe/Vienna:20250303T190000
DTSTAMP:20260422T094652
CREATED:20250219T054150Z
LAST-MODIFIED:20250221T081208Z
UID:10000101-1741021200-1741028400@lions.charity
SUMMARY:Festakt zur Jugendförderung & Ehrung Friedensplakat-Gewinner
DESCRIPTION:Am 3. März 2025 lädt der Lions Club Klosterneuburg-Babenberg zum Festakt der Jugendförderung in den Dr.-Rudolf-Koch-Saal ein. \n\n\n\nZu den Ehrengästen zählen Bürgermeister Christoph Kaufmann\, Vizebürgermeisterin Maria-Theresia Eder\, Marko Djurdjevic\, internationaler Künstler und ehemaliger Friedensplakat-Gewinner\, sowie Klaus Schwertner\, Geschäftsführer der Caritas Wien\, der über Jugendförderung als Armutsprävention spricht. \n\n\n\nIm Mittelpunkt des Abends steht die Ehrung der Gewinner:innen des Friedensplakatwettbewerbs\, die gemeinsam mit ihren Direktor:innen ausgezeichnet werden: \n\n\n\n\nAllgemeine Sonderschule Klosterneuburg – Direktorin Ulrike Haider\n\n\n\nBG/BRG Klosterneuburg – Direktorin Mag. Hemma Poledna\n\n\n\nNÖ Mittelschule Klosterneuburg – Direktorin Sabine Maria Geyrhofer\n\n\n\nPrivates G/RG Klosterneuburg – Direktor Mag. Johannes Poyntner\n\n\n\n\nDer Abend wird musikalisch umrahmt von Florentina Serles\, dem TWOgether Chor und Prima La Musica Preisträger:innen. \n\n\n\nMit diesem Festakt setzt der Lions Club ein starkes Zeichen für die Förderung junger Talente in Kunst\, Musik und Bildung. \n\n\n\n\n\nDie Einladung im Format PDF können Sie gerne hier ansehen\, herunterladen und weiterleiten.\n\n\n\n\n\nEinladung – Festakt Jugendförderung 2025_webHerunterladen\n\n\n\nEinladung – Festakt Jugendförderung 2025_webHerunterladen
URL:https://lions.charity/event/festakt-zur-jugendfoerderung-ehrung-der-friedensplakat-gewinner/
LOCATION:Niederösterreich
CATEGORIES:Lions Events
ATTACH;FMTTYPE=image/jpeg:https://lions.charity/wp-content/uploads/2025/02/Header-Newsletter-Festakt-Jugendfoerderung.jpg
ORGANIZER;CN="Lions Club Klosterneuburg-Babenberg":MAILTO:klosterneuburg@lions.charity
END:VEVENT
END:VCALENDAR