BEGIN:VCALENDAR
VERSION:2.0
PRODID:-//Lions Clb Klosterneuburg Babenberg - ECPv6.15.20//NONSGML v1.0//EN
CALSCALE:GREGORIAN
METHOD:PUBLISH
X-WR-CALNAME:Lions Clb Klosterneuburg Babenberg
X-ORIGINAL-URL:https://lions.charity
X-WR-CALDESC:Veranstaltungen für Lions Clb Klosterneuburg Babenberg
REFRESH-INTERVAL;VALUE=DURATION:PT1H
X-Robots-Tag:noindex
X-PUBLISHED-TTL:PT1H
BEGIN:VTIMEZONE
TZID:Europe/Vienna
BEGIN:DAYLIGHT
TZOFFSETFROM:+0100
TZOFFSETTO:+0200
TZNAME:CEST
DTSTART:20240331T010000
END:DAYLIGHT
BEGIN:STANDARD
TZOFFSETFROM:+0200
TZOFFSETTO:+0100
TZNAME:CET
DTSTART:20241027T010000
END:STANDARD
BEGIN:DAYLIGHT
TZOFFSETFROM:+0100
TZOFFSETTO:+0200
TZNAME:CEST
DTSTART:20250330T010000
END:DAYLIGHT
BEGIN:STANDARD
TZOFFSETFROM:+0200
TZOFFSETTO:+0100
TZNAME:CET
DTSTART:20251026T010000
END:STANDARD
BEGIN:DAYLIGHT
TZOFFSETFROM:+0100
TZOFFSETTO:+0200
TZNAME:CEST
DTSTART:20260329T010000
END:DAYLIGHT
BEGIN:STANDARD
TZOFFSETFROM:+0200
TZOFFSETTO:+0100
TZNAME:CET
DTSTART:20261025T010000
END:STANDARD
END:VTIMEZONE
BEGIN:VEVENT
DTSTART;TZID=Europe/Vienna:20250112T160000
DTEND;TZID=Europe/Vienna:20250112T173000
DTSTAMP:20260422T132916
CREATED:20241128T053835Z
LAST-MODIFIED:20250111T093746Z
UID:10000097-1736697600-1736703000@lions.charity
SUMMARY:Lions Neujahrskonzert Junge Sinfonie Klosterneuburg
DESCRIPTION:Jazz\, Soul & Passion – Lions Jazz mit Gail Anderson\n\n\n\n\nNach einer langen Pause dürfen wir eine der beliebtesten Traditionen unserer Stadt wieder aufleben lassen: Das Neujahrskonzert mit der Jungen Sinfonie Klosterneuburg\, heuer unter der Leitung von Snezana Kis. Lassen Sie sich von einem abwechslungsreichen Programm verzaubern\, das Werke von Bizet\, Strauss\, Rossini und weiteren Komponisten umfasst. \n\n\n\nDieses besondere Konzert wird präsentiert von der J.G. Albrechtsberger Musikschule in Kooperation mit dem Lions Club Klosterneuburg Babenberg. Den feierlichen Auftakt gestalten die Junior Winds unter der Leitung von Luca Pelanda – ein wahrer Genuss für alle Musikliebhaber! \n\n\n\nSichern Sie sich jetzt Ihre Tickets und starten Sie das neue Jahr mit einem musikalischen Highlight! 🎟️ \n\n\n\nWir freuen uns\, Sie bei diesem besonderen Ereignis begrüßen zu dürfen! Dauer des Konzertes ca. 50min\, optimal um auch Jüngere für klassische Musik zu begeistern! \n\n\n\nDer Erlös der Veranstaltung kommt dem Elternverein der Musikschule Klosterneuburg zu gute. \n\n\n\nDas Tool sollte alle verfügbaren Sitze anzeigen. Bei Problemen mit der Zahlung beachten Sie auch (klein) die Möglichkeit „andere Zahlungsmöglichkeiten“ und nach dem Klick die Zahlung mit PayPal. Falls mal was nicht klappt\, bitte ein mail mit möglichst konkreten Angaben zum Fehler\, wenn möglich genutztem Browser an klosterneuburg@lions.charity Danke\, Euer Lions Team.
URL:https://lions.charity/event/lions-neujahrskonzert-junge-sinfonie-klosterneuburg-2/
LOCATION:Babenbergerhalle\, Rathausplatz 25\, Klosterneuburg\, Niederösterreich\, 3400\, Österreich
CATEGORIES:Lions Neujahrskonzert
ATTACH;FMTTYPE=image/jpeg:https://lions.charity/wp-content/uploads/2024/11/Neujahrskonzert-2025-Header.jpg
ORGANIZER;CN="Lions Club Klosterneuburg-Babenberg":MAILTO:klosterneuburg@lions.charity
END:VEVENT
END:VCALENDAR