BEGIN:VCALENDAR
VERSION:2.0
PRODID:-//Lions Clb Klosterneuburg Babenberg - ECPv6.15.20//NONSGML v1.0//EN
CALSCALE:GREGORIAN
METHOD:PUBLISH
X-ORIGINAL-URL:https://lions.charity
X-WR-CALDESC:Veranstaltungen für Lions Clb Klosterneuburg Babenberg
REFRESH-INTERVAL;VALUE=DURATION:PT1H
X-Robots-Tag:noindex
X-PUBLISHED-TTL:PT1H
BEGIN:VTIMEZONE
TZID:Europe/Vienna
BEGIN:DAYLIGHT
TZOFFSETFROM:+0100
TZOFFSETTO:+0200
TZNAME:CEST
DTSTART:20230326T010000
END:DAYLIGHT
BEGIN:STANDARD
TZOFFSETFROM:+0200
TZOFFSETTO:+0100
TZNAME:CET
DTSTART:20231029T010000
END:STANDARD
BEGIN:DAYLIGHT
TZOFFSETFROM:+0100
TZOFFSETTO:+0200
TZNAME:CEST
DTSTART:20240331T010000
END:DAYLIGHT
BEGIN:STANDARD
TZOFFSETFROM:+0200
TZOFFSETTO:+0100
TZNAME:CET
DTSTART:20241027T010000
END:STANDARD
BEGIN:DAYLIGHT
TZOFFSETFROM:+0100
TZOFFSETTO:+0200
TZNAME:CEST
DTSTART:20250330T010000
END:DAYLIGHT
BEGIN:STANDARD
TZOFFSETFROM:+0200
TZOFFSETTO:+0100
TZNAME:CET
DTSTART:20251026T010000
END:STANDARD
END:VTIMEZONE
BEGIN:VEVENT
DTSTART;TZID=Europe/Vienna:20241206T150000
DTEND;TZID=Europe/Vienna:20241222T200000
DTSTAMP:20260422T152648
CREATED:20241122T170621Z
LAST-MODIFIED:20241122T170621Z
UID:10000094-1733497200-1734897600@lions.charity
SUMMARY:Lions Punsch in der Orangerie
DESCRIPTION:Liebe Lions Freundinnen und Lions Freunde\, \nes ist wieder soweit: Der Lions Punsch 2024 erwartet Euch! Heuer findet Ihr uns beim Advent im Konventgarten an den folgenden Wochenenden: \n📅 6.–8. / 13.–15. / 20.–22. Dezember 2024\n🕒 Freitag & Samstag: jeweils 15–21 Uhr\n🕒 Sonntag: 14–20 Uhr \nWo genau?\nUnser beliebter Lions Punsch Stand hat heuer einen neuen Platz: im Garten der Orangerie\, aber wie gewohnt findet ihr die Lions direkt bei der Bühne. \nWas gibt es? \n\nPunsch und Glühwein\nKöstliche Schmankerl: Frische Marroni und Kartoffeln\n\nDas musikalische Rahmenprogramm wird in Zusammenarbeit mit der J.G. Albrechtsberger Musikschule gestaltet und sorgt für eine festliche Stimmung. \nWie jedes Jahr steht unser Engagement unter dem Motto „Immer für die gute Sache“. Wir freuen uns auf viele bekannte Gesichter und bedanken uns schon jetzt bei allen Besucherinnen und Besuchern für Eure Unterstützung. \nKommt vorbei\, genießt die Adventstimmung und unterstützt gleichzeitig eine gute Sache – wir zählen auf Euch!
URL:https://lions.charity/event/lions-punsch-in-der-orangerie/
LOCATION:Konventgarten/Eingang bei der Orangerie am Niedermarkt\, Hundskehle 10\, Klosterneuburg\, Niederösterreich\, 3400\, Austria
CATEGORIES:Lions Punsch,Weihnachtsmarkt
ATTACH;FMTTYPE=image/jpeg:https://lions.charity/wp-content/uploads/2024/11/PUNSCH24-1.jpg
ORGANIZER;CN="Stadtmarketing Klosterneuburg":MAILTO:stadtmarketing@klosterneuburg.net
END:VEVENT
END:VCALENDAR