BEGIN:VCALENDAR
VERSION:2.0
PRODID:-//Lions Clb Klosterneuburg Babenberg - ECPv6.15.20//NONSGML v1.0//EN
CALSCALE:GREGORIAN
METHOD:PUBLISH
X-ORIGINAL-URL:https://lions.charity
X-WR-CALDESC:Veranstaltungen für Lions Clb Klosterneuburg Babenberg
REFRESH-INTERVAL;VALUE=DURATION:PT1H
X-Robots-Tag:noindex
X-PUBLISHED-TTL:PT1H
BEGIN:VTIMEZONE
TZID:Europe/Vienna
BEGIN:DAYLIGHT
TZOFFSETFROM:+0100
TZOFFSETTO:+0200
TZNAME:CEST
DTSTART:20230326T010000
END:DAYLIGHT
BEGIN:STANDARD
TZOFFSETFROM:+0200
TZOFFSETTO:+0100
TZNAME:CET
DTSTART:20231029T010000
END:STANDARD
BEGIN:DAYLIGHT
TZOFFSETFROM:+0100
TZOFFSETTO:+0200
TZNAME:CEST
DTSTART:20240331T010000
END:DAYLIGHT
BEGIN:STANDARD
TZOFFSETFROM:+0200
TZOFFSETTO:+0100
TZNAME:CET
DTSTART:20241027T010000
END:STANDARD
BEGIN:DAYLIGHT
TZOFFSETFROM:+0100
TZOFFSETTO:+0200
TZNAME:CEST
DTSTART:20250330T010000
END:DAYLIGHT
BEGIN:STANDARD
TZOFFSETFROM:+0200
TZOFFSETTO:+0100
TZNAME:CET
DTSTART:20251026T010000
END:STANDARD
END:VTIMEZONE
BEGIN:VEVENT
DTSTART;TZID=Europe/Vienna:20240317T170000
DTEND;TZID=Europe/Vienna:20240317T193000
DTSTAMP:20260423T051222
CREATED:20240127T093131Z
LAST-MODIFIED:20240204T084550Z
UID:10000085-1710694800-1710703800@lions.charity
SUMMARY:Lions Frühjahrskonzert: Junge Meister "Mit Musik auf Reisen"
DESCRIPTION:Am 17. März erleben Sie im Festsaal der Raiffeisenbank Klosterneuburg eine fesselnde musikalische Reise\, dargeboten von den hochtalentierten Mitgliedern des Young Masters Ensembles der Johann Sebastian Bach Musikschule Wien und der Universität für Musik und darstellende Kunst. \nDas Ensemble\, bekannt für seine internationalen Erfolge und Konzertreisen\, bringt Ihnen ein sorgfältig kuratiertes Programm nahe\, das von der Ouvertüre Haydns bis zu den lebhaften Rhythmen von Saint-Saëns reicht. Freuen Sie sich auf eine abwechslungsreiche Darbietung\, die sowohl Streicher- als auch Holzbläserensembles beinhaltet und durch die Klarinette\, Violine und Harfe in Solostücken glänzt. \nWir laden Sie ein\, Teil dieser musikalischen Entdeckungsreise zu sein\, die von Meisterwerken aus der Klassik bis hin zu faszinierenden Klängen der Moderne reicht. Sichern Sie sich Ihr Ticket für einen Abend voller musikalischer Inspiration und unterstützen Sie mit Ihrem Beitrag die Förderung junger Talente. \nTickets erhalten Sie gegen eine Spende ab 20€. Wir öffnen unsere Türen um 16:15 Uhr für einen Konzertbeginn um 17:00 Uhr. Verpassen Sie nicht die Gelegenheit\, diese talentierten Musiker live zu erleben und gleichzeitig einen wohltätigen Zweck zu unterstützen. \nWir freuen uns auf Ihr Kommen und darauf\, gemeinsam mit Ihnen auf musikalische Reisen zu gehen. \nTickets finden Sie bei Oeticket hier im Link oder unten: Junge Meister in Concert: Lions Frühjahrskonzert 2024 – Lions Club Klosterneuburg Babenberg \nWir freuen uns darauf\, Sie bei diesem musikalischen Highlight begrüßen zu dürfen und gleichzeitig die Talente der nächsten Generation zu feiern. Ihr Besuch unterstützt nicht nur unsere jungen Künstlerinnen und Künstler\, sondern trägt auch zur Arbeit und den Zielen unseres Lions Clubs bei. \n  \n\n\nPROGRAMM:\n\n\nJoseph Haydn\, Ouvertüre zu „Acide e Galatea“/Arr. Hanns C. Stekel/Young Masters Ensemble\nW. A. Mozart\, Konzert für Violine und Orchester Nr. 5 in A-Dur\, KV 219\, 3. Satz: Rondeau. Tempo di Minuetto/Arr. Hanns C. Stekel/Finia Bogner\, Violine & Young Masters Ensemble\nW. A. Mozart\, Divertimento Nr. 5\, Romanze/Camillo Kirchhoff\, Klarinette & Emilia Miklin\, Klarinette & Philipp Guthauer\, Fagott\nJoaquín Rodrigo\, Concierto de Aranjuez\, 2. Satz: Adagio/Arr. Linus Köhring/Amelie Jade Knapp\, Harfe & Young Masters Ensemble\nJoseph Hellmesberger\, Romanze op.43/2 für 4 Violinen/Arr. Linus Köhring/Finia Bogner\, Violine & Katharina Auer\, Violine & Nora Ratzberger\, Violine & Lauren Dunbar\, Violine & Young Masters Ensemble\nPause\nKonrád Varga\, “Young Masters” (Uraufführung)/Konrád Varga\, Violoncello & Young Masters Ensemble\nFritz Kreisler\, „Tambourin Chinoise“\, Op. 3/Arr. Hanns C. Stekel/Laura Kostner\, Violine & Young Masters Ensemble\nLibor Sima\, Ragtime und Csárdás aus 5 Miniaturen für drei Holzbläser/Camillo Kirchhoff\, Klarinette & Emilia Miklin\, Klarinette & Philipp Guthauer\, Fagott\nCamille Saint-Saëns\, „Havanaise“ in E-Dur\, Op. 83/Arr. Niklas Croust/Nora Ratzberger\, Violine & Young Masters Ensemble
URL:https://lions.charity/event/lions-fruehjahrskonzert-2024/
LOCATION:Festsaal der Raiffeisenbank\, Rathausplatz 7\, Klosterneuburg\, Niederösterreich\, 3400\, Österreich
CATEGORIES:Lions Events,Lions Frühjahrskonzert
ATTACH;FMTTYPE=image/jpeg:https://lions.charity/wp-content/uploads/2024/01/JSB-Lions-Fruehjahr-2024_web.jpg
ORGANIZER;CN="Lions Club Klosterneuburg-Babenberg":MAILTO:klosterneuburg@lions.charity
END:VEVENT
END:VCALENDAR