BEGIN:VCALENDAR
VERSION:2.0
PRODID:-//Lions Clb Klosterneuburg Babenberg - ECPv6.15.20//NONSGML v1.0//EN
CALSCALE:GREGORIAN
METHOD:PUBLISH
X-WR-CALNAME:Lions Clb Klosterneuburg Babenberg
X-ORIGINAL-URL:https://lions.charity
X-WR-CALDESC:Veranstaltungen für Lions Clb Klosterneuburg Babenberg
REFRESH-INTERVAL;VALUE=DURATION:PT1H
X-Robots-Tag:noindex
X-PUBLISHED-TTL:PT1H
BEGIN:VTIMEZONE
TZID:Europe/Vienna
BEGIN:DAYLIGHT
TZOFFSETFROM:+0100
TZOFFSETTO:+0200
TZNAME:CEST
DTSTART:20220327T010000
END:DAYLIGHT
BEGIN:STANDARD
TZOFFSETFROM:+0200
TZOFFSETTO:+0100
TZNAME:CET
DTSTART:20221030T010000
END:STANDARD
BEGIN:DAYLIGHT
TZOFFSETFROM:+0100
TZOFFSETTO:+0200
TZNAME:CEST
DTSTART:20230326T010000
END:DAYLIGHT
BEGIN:STANDARD
TZOFFSETFROM:+0200
TZOFFSETTO:+0100
TZNAME:CET
DTSTART:20231029T010000
END:STANDARD
BEGIN:DAYLIGHT
TZOFFSETFROM:+0100
TZOFFSETTO:+0200
TZNAME:CEST
DTSTART:20240331T010000
END:DAYLIGHT
BEGIN:STANDARD
TZOFFSETFROM:+0200
TZOFFSETTO:+0100
TZNAME:CET
DTSTART:20241027T010000
END:STANDARD
END:VTIMEZONE
BEGIN:VEVENT
DTSTART;VALUE=DATE:20231006
DTEND;VALUE=DATE:20231009
DTSTAMP:20260423T132411
CREATED:20230426T104742Z
LAST-MODIFIED:20230929T073234Z
UID:10000038-1696550400-1696809599@lions.charity
SUMMARY:Lions Flohmarkt Klosterneuburg 2023
DESCRIPTION:Lions Flohmarkt 2023\nDer Lions Club Klosterneuburg-Babenberg organisiert über das Jahr hinweg vielfältige Aktivitäten\, durch deren Einnahmen die Unterstützungen erst möglich sind. Eine zentrale Rolle kommt dabei dem Lions Flohmarkt im Herbst in der Babenbergerhalle zu. Besucherzustrom und Kauffreude sind bei diesem Flohmarkt erfreulich groß.\n45 Jahre Flohmarkt zeugen von der Bedeutung und von der Spendenfreudigkeit der Klosterneuburger.\nDarum heißt es auch dieses Jahr wieder: Helfen Sie uns helfen!\n\nWir Lions sind jedes Mal aufs Neue beeindruckt und gerührt mit welcher großen Unterstützung wir hier in Klosterneuburg rechnen dürfen. Es beginnt bei den Sammeltagen im August – wenn uns die Klosterneuburger oftmals fein säuberlich verpackt Kartons anliefern mit der Aufschrift „Lions Flohmarkt“ und uns erzählen\, wie lange sie diese bereits für uns aufgehoben haben.\nDer Aufbau an der Babenbergerhalle ist dann\, vor allem der Mittwoch\, eine logistische Herausforderung. Wer als Lionsmitglied jetzt noch nicht beeindruckt ist darf dann den ersten Ansturm am Freitag erleben und ist sich spätestens dann gewiss: Ganz Klosterneuburg ist jetzt und hier auf Schatzsuche.\n\nLiebe Klosterneuburger\, wir freuen uns über 45. Jahre Flohmarkt in unserer Stadt und eure langjährige Unterstützung für uns Lions. Ihr helft uns damit Helfen! Danke!\n\n\nSPECIAL OPENING – EARLY BIRD EINLASS\ngegen eine Spende bist Du vor allen anderen auf Schnäppchenjagd: limitierte Early-Bird-Pässe für einen Einlass Freitag ab 13:00 Uhr – erhältlich auf .\nEarly-Bird Tickets: https://Early-Bird-Access-45-Flohmarkt.eventbrite.at \n\nÖFFNUNGSZEITEN Flohmarkt\n06.Oktober 14:00-18:00\n07.Oktober 10:00-18:00\n08. Oktober 10:00-14:00\nFacebook: https://fb.me/e/vamhJpE3 \n\nSAMMELTAGE!!\nSa. 26.08. 10:00 – 13:00 Uhr https://fb.me/e/3fP8WGJB9\nSa. 09.09. 10:00 – 13:00 Uhr https://fb.me/e/PH0Slq1V\nSa. 23.09. 10:00 – 13:00 Uhr https://fb.me/e/TKNg8Pp8 \nWas wir sammeln: Also grundsätzlich alles was man gerne herschenkt und in einen Karton passt.\n\nBitte NUR funktionierende Geräte\, KEINE Röhrenfernseher\, KEINE sperrigen Möbel – DInge\, die eher auf den Recyclinghof gehören bitte nicht zu uns bringen\, wir kommen von Platz und (wo)menpower an unsere Grenzen\, Danke!\nDaher können wir auch KEINE Abholung mehr anbieten in diesem Jahr\n\n\n\nSie wollen Teil des Flohmarkt-Teams werden und uns auch tatkräftig unterstützen beim Aufbau\, dem Abbau oder in der Halle beim Verkauf\, dann schreiben Sie uns gerne an flohmarkt@lions.charity 
URL:https://lions.charity/event/lions-flohmarkt-klosterneuburg-2023/
LOCATION:Babenbergerhalle\, Rathausplatz 25\, Klosterneuburg\, Niederösterreich\, 3400\, Österreich
CATEGORIES:Flohmarkt
ATTACH;FMTTYPE=image/jpeg:https://lions.charity/wp-content/uploads/2023/04/Flohmarkt_FB-Banner-all_icon-scaled.jpg
ORGANIZER;CN="Lions Club Klosterneuburg-Babenberg":MAILTO:klosterneuburg@lions.charity
END:VEVENT
END:VCALENDAR