BEGIN:VCALENDAR
VERSION:2.0
PRODID:-//Lions Clb Klosterneuburg Babenberg - ECPv6.15.20//NONSGML v1.0//EN
CALSCALE:GREGORIAN
METHOD:PUBLISH
X-WR-CALNAME:Lions Clb Klosterneuburg Babenberg
X-ORIGINAL-URL:https://lions.charity
X-WR-CALDESC:Veranstaltungen für Lions Clb Klosterneuburg Babenberg
REFRESH-INTERVAL;VALUE=DURATION:PT1H
X-Robots-Tag:noindex
X-PUBLISHED-TTL:PT1H
BEGIN:VTIMEZONE
TZID:Europe/Vienna
BEGIN:DAYLIGHT
TZOFFSETFROM:+0100
TZOFFSETTO:+0200
TZNAME:CEST
DTSTART:20220327T010000
END:DAYLIGHT
BEGIN:STANDARD
TZOFFSETFROM:+0200
TZOFFSETTO:+0100
TZNAME:CET
DTSTART:20221030T010000
END:STANDARD
BEGIN:DAYLIGHT
TZOFFSETFROM:+0100
TZOFFSETTO:+0200
TZNAME:CEST
DTSTART:20230326T010000
END:DAYLIGHT
BEGIN:STANDARD
TZOFFSETFROM:+0200
TZOFFSETTO:+0100
TZNAME:CET
DTSTART:20231029T010000
END:STANDARD
BEGIN:DAYLIGHT
TZOFFSETFROM:+0100
TZOFFSETTO:+0200
TZNAME:CEST
DTSTART:20240331T010000
END:DAYLIGHT
BEGIN:STANDARD
TZOFFSETFROM:+0200
TZOFFSETTO:+0100
TZNAME:CET
DTSTART:20241027T010000
END:STANDARD
END:VTIMEZONE
BEGIN:VEVENT
DTSTART;TZID=Europe/Vienna:20230826T100000
DTEND;TZID=Europe/Vienna:20230826T130000
DTSTAMP:20260423T164638
CREATED:20230426T103430Z
LAST-MODIFIED:20230426T103546Z
UID:10000035-1693044000-1693054800@lions.charity
SUMMARY:SAMMELTERMINE (1/3) - Lions Flohmarkt 2023
DESCRIPTION:Lions Flohmarkt 2023\nVor der großen Schatzsuche wird erst einmal gesammelt! Drei Sammeltage! Diese finden in bewährter Form wieder am Kasernengelände statt. \nWir suchen – und das soweit möglich bereits sortiert – gut erhaltene Ware für folgende Stände: \n* Kleider\, Jacken\, Mäntel\n* Kinderspiele und Spielzeug\n* Schallplatten VINYL\n* Krims Krams von A-Z – klein und fein\n* Brillen\, Schmuck und Rares\n* Bücher (Raritäten)\n* kleine Dekomöbel\n* Geschirr – gerne auch Sets\n* Schuhe\, Hüte\, Taschen\n* Technik (Radios\, Schallplattenspieler\,)\n* Fahrräder; Skier\, Rollerskates \nAlso grundsätzlich alles was man gerne herschenkt und in einen Karton passt. \nBitte NUR funktionierende Geräte\, KEINE Röhrenfernseher\, KEINE sperrigen Möbel – DInge\, die eher auf den Recyclinghof gehören bitte nicht zu uns bringen\, wir haben wirklich so schon genug zu tun\, Danke! \nfür wahre Schätze kommen wir auch zu Dir! \nKeine Möglichkeit etwas zu bringen – sende uns eine Anfrage an flohmarkt@lions.charity \nWofür wir sammeln: \nDer Lions Club Klosterneuburg-Babenberg organisiert über das Jahr hinweg vielfältige Aktivitäten\, durch deren Einnahmen die Unterstützungen erst möglich sind. Eine zentrale Rolle kommt dabei dem Lions Flohmarkt im Herbst in der Babenbergerhalle zu. \nBesucherzustrom und Kauffreude sind bei diesem Flohmarkt erfreulich groß. \n45 Jahre Flohmarkt zeugen von der Bedeutung und von der Spendenfreudigkeit der Klosterneuburger. \nDarum heißt es dieses Jahr auch endlich wieder: Helfen Sie uns helfen! \nLiebe Klosterneuburger\, wir freuen uns über 45. Jahre Flohmarkt in unserer Stadt und eure langjährige Unterstützung für uns Lions. Ihr helft uns damit Helfen! Danke! \n  \nSPECIAL OPENING\ngegen eine Spende bist Du vor allen anderen auf Schnäppchenjagd: limitierte Early-Bird-Pässe für einen Einlass Freitag ab 13:00 Uhr – erhältlich auf eventbrite \nhttps://Early-Bird-Access-45-Flohmarkt.eventbrite.at \n– nähere Infos auf www.lions.charity \n  \n  \nÖFFNUNGSZEITEN Flohmarkt\n06.Oktober 14:00-18:00 \n07.Oktober 14:00-18:00 \n08.Oktober 10:00-12:00 \nFacebook: https://fb.me/e/vamhJpE3 \n  \nSAMMELTAGE!!\nSa. 26.08. 10:00 – 13:00 Uhr https://fb.me/e/3fP8WGJB9 \nSa. 09.09. 10:00 – 13:00 Uhr https://fb.me/e/PH0Slq1V \nSa. 23.09. 10:00 – 13:00 Uhr https://fb.me/e/TKNg8Pp8 \n 
URL:https://lions.charity/event/sammeltermine-1-3-lions-flohmarkt_2023/
LOCATION:Kaserne Klosterneuburg\, Magdeburggasse 9\, Klosterneuburg\, Niederösterreich\, 3400\, Österreich
CATEGORIES:Flohmarkt,Sammeltage
ATTACH;FMTTYPE=image/jpeg:https://lions.charity/wp-content/uploads/2023/04/Sammeltage-Kalender-scaled.jpg
ORGANIZER;CN="Lions Club Klosterneuburg-Babenberg":MAILTO:klosterneuburg@lions.charity
END:VEVENT
END:VCALENDAR