BEGIN:VCALENDAR
VERSION:2.0
PRODID:-//Lions Clb Klosterneuburg Babenberg - ECPv6.15.20//NONSGML v1.0//EN
CALSCALE:GREGORIAN
METHOD:PUBLISH
X-ORIGINAL-URL:https://lions.charity
X-WR-CALDESC:Veranstaltungen für Lions Clb Klosterneuburg Babenberg
REFRESH-INTERVAL;VALUE=DURATION:PT1H
X-Robots-Tag:noindex
X-PUBLISHED-TTL:PT1H
BEGIN:VTIMEZONE
TZID:Europe/Vienna
BEGIN:DAYLIGHT
TZOFFSETFROM:+0100
TZOFFSETTO:+0200
TZNAME:CEST
DTSTART:20210328T010000
END:DAYLIGHT
BEGIN:STANDARD
TZOFFSETFROM:+0200
TZOFFSETTO:+0100
TZNAME:CET
DTSTART:20211031T010000
END:STANDARD
BEGIN:DAYLIGHT
TZOFFSETFROM:+0100
TZOFFSETTO:+0200
TZNAME:CEST
DTSTART:20220327T010000
END:DAYLIGHT
BEGIN:STANDARD
TZOFFSETFROM:+0200
TZOFFSETTO:+0100
TZNAME:CET
DTSTART:20221030T010000
END:STANDARD
BEGIN:DAYLIGHT
TZOFFSETFROM:+0100
TZOFFSETTO:+0200
TZNAME:CEST
DTSTART:20230326T010000
END:DAYLIGHT
BEGIN:STANDARD
TZOFFSETFROM:+0200
TZOFFSETTO:+0100
TZNAME:CET
DTSTART:20231029T010000
END:STANDARD
END:VTIMEZONE
BEGIN:VEVENT
DTSTART;TZID=Europe/Vienna:20221105T190000
DTEND;TZID=Europe/Vienna:20221105T220000
DTSTAMP:20260424T062904
CREATED:20221019T141805Z
LAST-MODIFIED:20221027T184652Z
UID:10000004-1667674800-1667685600@lions.charity
SUMMARY:Tiny Jazz Concerts - Season II Part V.
DESCRIPTION:Tiny Jazz – Season II.\nDie erfolgreiche Reihe Tiny-Jazz wird fortgesetzt. In die neue Saison starten wir mit einer neuen Formation. An diesem Abend für Sie in der Tiny-Jazz Hausband: \n\nÁdám Ladány (pos)\nChristoph Nadler (trp)\nGert Haussner (guit)\nGottfried Schnürl (drums)\nGregor Aufmesser (bass)\nTobias Meissl (vib/mar)\n\nGemeinsame präsentieren Sie außerdem ihre talentiertesten Klosterneuburger Schüler Solo und im Ensemble. \nSo präsentiert Ihnen Gert Haussner die GypsyJazzBand. Es spielen Fabian Mittermayer an der Geige\,  Max Mares\, Kimon Kyriakou und Jaro Rektenwald an den Gitarren und begleitet werden sie von Gert Haussner am Kontrabass. \nAuch Gregor Aufmesser wird seine Formation Spagetti präsentieren\, vielen bereits bekannt aus dem Tiny-Jazz Konzert im März 2022. \nTICKETS\nTiny-Jazz-Concert Part V.\nKenner der Tiny-Jazz Konzert können bereits erahnen\, was sie erwartet! Die J.G. Albrechtsberger Musikschule und ihre Lehrer bilden den künstlerischen Rahmen bei unserer Konzertreihe. „Tiny Jazz Concerts“ ist eine Plattform\, auf der Sie Jazz-Musik hautnah erleben dürfen. Neben der großartigen Hausband\, erhalten einige auserwählte Schüler die seltene Chance vor einem großen Publikum gemeinsam mit ihren Lehrern ein Konzert zu geben. \nSeien Sie dabei beim Neustart in die Saison. Sichern Sie sich jetzt Ihre Tickets gegen eine Spende. Der Erlös der Veranstaltung wird für die Jugendförderung verwendet. Bitte erwägen Sie auch eine zusätzliche Spende an die Musiker und erwerben „Butter aufs` Brot“ Pakete direkt im Ticketshop.
URL:https://lions.charity/event/tiny-jazz-season-ii/
LOCATION:Niederösterreich
CATEGORIES:Lions Jazz
ATTACH;FMTTYPE=image/jpeg:https://lions.charity/wp-content/uploads/2022/10/tinyJazz5.jpg
END:VEVENT
BEGIN:VEVENT
DTSTART;TZID=Europe/Vienna:20221125T160000
DTEND;TZID=Europe/Vienna:20221125T210000
DTSTAMP:20260424T062904
CREATED:20221119T124037Z
LAST-MODIFIED:20221123T112259Z
UID:10000018-1669392000-1669410000@lions.charity
SUMMARY:Lions Punsch - feierliche Eröffnung
DESCRIPTION:Beim Lions-Punsch im Pfalzhof am Rathausplatz ist immer was los!\n\nDer Lions Glühwein hat zwei Zutaten\, die ihn so besonders machen: einen ausgezeichneten Wein vom Stift Klosterneuburg und eine gute Prise Charme von uns Lions bei einem Plauscherl. Letzteres gibt es auch zum beliebten Lions Punsch. Viele Löwen und Freunde kommen immer gerne privat auf ein Plauscherl vorbei.\nHinter der Theke am Ausschank an diesem Tag für Sie unter anderem im Einsatz: Familie Haas\, Familie Neubauer und Matthias Schönwetter.\n\nZur feierlichen Eröffnung durch Bürgermeister Stefan Schmuckenschlager laden wir Sie hiermit herzlich ab 17:00 Uhr ein.\nBei freiem Eintritt hören Sie ein Saxophonkonzert von der Klasse von Yukiko Krenn.\n\nAuf vielfachen Wunsch haben wir heuer auch wieder die beliebte Eisstockbahn\, die allen Besuchern gegen eine kleine Spende zur Verfügung steht!\nIhr persönliches Vergnügen auf der Eisstockbahn bitten wir vorab zu reservieren auf: Lions Eisstockbahn\n\nUnd all dies an einem neuen Platzerl: im kuscheligen und geschmückten Innenhof des Pfalzhof am Rathausplatz – ganz ohne Eintritt – vom 25.November bis 18.Dezember immer Freitag bis Sonntag\, 16:00 – 21:00 Uhr und zusätzlich am 08.Dezember.\n\nWir freuen uns wie jedes Jahr in Klosterneuburg auf ein gemütliches Miteinander beim Lions Punsch.\nUnd da der beste Punsch mit Freunden noch besser schmeckt\, kommt einfach mit Familie\, Freunden\, Bekannten und teilt diese Veranstaltung mit eurem Netzwerk. Im Innenhof gibt es zeitgleich einen Christbaumverkauf\, der nicht nur für die passende optische Untermalung sorgt\, sondern Ihnen vielleicht auch die Gelegenheit gibt bei einem Glaserl Punsch gleich den passenden Baum für zu Hause zu finden.\n\n\nIm Namen aller die Hilfe benötigen bedankt sich Euer Lions Club Klosterneuburg-Babenberg.\n\n\n  \n  \n  \n 
URL:https://lions.charity/event/lions-punsch-eroeffnung/
LOCATION:Pfalzhof\, Rathausplatz 18\, Klosterneuburg\, Niederösterreich\, 3400\, Österreich
CATEGORIES:Lions Punsch,Weihnachtsmarkt
ATTACH;FMTTYPE=image/jpeg:https://lions.charity/wp-content/uploads/2022/10/11-25-Pfalzhof-Punsch-Polarstern-1.jpg
ORGANIZER;CN="Lions Club Klosterneuburg-Babenberg":MAILTO:klosterneuburg@lions.charity
END:VEVENT
BEGIN:VEVENT
DTSTART;TZID=Europe/Vienna:20221126T160000
DTEND;TZID=Europe/Vienna:20221126T210000
DTSTAMP:20260424T062904
CREATED:20221118T150015Z
LAST-MODIFIED:20221122T161750Z
UID:10000019-1669478400-1669496400@lions.charity
SUMMARY:Lions Punsch am Samstag mit Turmbläsern
DESCRIPTION:  \nBeim Lions-Punsch im Pfalzhof am Rathausplatz ist immer was los! \n  \nDer Lions Glühwein hat zwei Zutaten\, die ihn so besonders machen: einen ausgezeichneten Wein vom Stift Klosterneuburg und eine gute Prise Charme von uns Lions bei einem Plauscherl. Letzteres gibt es auch zum beliebten Lions Punsch. Viele Löwen und Freunde kommen immer gerne privat auf ein Plauscherl vorbei. \nHinter der Theke am Ausschank an diesem Tag für Sie unter anderem im Einsatz: Familie Mitsch\, Leo Hofbauer und Jeanette & Erich Aigner. \nBei freiem Eintritt spielen für Sie die Turmbläser der Klassen Ladanyi & Nadler (ca.19:00). \nAuf vielfachen Wunsch haben wir heuer auch wieder die beliebte Eisstockbahn\, die allen Besuchern gegen eine kleine Spende zur Verfügung steht! \nIhr persönliches Vergnügen auf der Eisstockbahn bitten wir vorab zu reservieren auf: Lions Eisstockbahn \n  \nUnd all dies an einem neuen Platzerl: im kuscheligen und geschmückten Innenhof des Pfalzhof am Rathausplatz – ganz ohne Eintritt – vom 25.November bis 18.Dezember immer Freitag bis Sonntag\, 16:00 – 21:00 Uhr und zusätzlich am 08.Dezember. \n  \nWir freuen uns wie jedes Jahr in Klosterneuburg auf ein gemütliches Miteinander beim Lions Punsch. \nUnd da der beste Punsch mit Freunden noch besser schmeckt\, kommt einfach mit Familie\, Freunden\, Bekannten und teilt diese Veranstaltung mit eurem Netzwerk. Im Innenhof gibt es zeitgleich einen Christbaumverkauf\, der nicht nur für die passende optische Untermalung sorgt\, sondern Ihnen vielleicht auch die Gelegenheit gibt bei einem Glaserl Punsch gleich den passenden Baum für zu Hause zu finden. \n  \nIm Namen aller die Hilfe benötigen bedankt sich Euer Lions Club Klosterneuburg-Babenberg. \n  \n 
URL:https://lions.charity/event/lions-punsch-am-26-november/
LOCATION:Pfalzhof\, Rathausplatz 18\, Klosterneuburg\, Niederösterreich\, 3400\, Österreich
CATEGORIES:Lions Punsch,Weihnachtsmarkt
ATTACH;FMTTYPE=image/jpeg:https://lions.charity/wp-content/uploads/2022/10/11-26-Pfalzhof-Punsch-Polarstern-1.jpg
ORGANIZER;CN="Lions Club Klosterneuburg-Babenberg":MAILTO:klosterneuburg@lions.charity
END:VEVENT
BEGIN:VEVENT
DTSTART;TZID=Europe/Vienna:20221127T160000
DTEND;TZID=Europe/Vienna:20221127T210000
DTSTAMP:20260424T062904
CREATED:20221120T063014Z
LAST-MODIFIED:20221122T161833Z
UID:10000020-1669564800-1669582800@lions.charity
SUMMARY:Lions Punsch am 01. Advent mit Turmbläsern
DESCRIPTION:  \nBeim Lions-Punsch im Pfalzhof am Rathausplatz ist immer was los! \n  \nDer Lions Glühwein hat zwei Zutaten\, die ihn so besonders machen: einen ausgezeichneten Wein vom Stift Klosterneuburg und eine gute Prise Charme von uns Lions bei einem Plauscherl. Letzteres gibt es auch zum beliebten Lions Punsch. Viele Löwen und Freunde kommen immer gerne privat auf ein Plauscherl vorbei. \nHinter der Theke am Ausschank an diesem Tag für Sie unter anderem im Einsatz: Familie Wagner\, Rick Niehaus und Renate Maskowan. \nBei freiem Eintritt spielen für Sie die Turmbläser der Klassen Ladanyi & Nadler (ca.19:00). \nAuf vielfachen Wunsch haben wir heuer auch wieder die beliebte Eisstockbahn\, die allen Besuchern gegen eine kleine Spende zur Verfügung steht! \nIhr persönliches Vergnügen auf der Eisstockbahn bitten wir vorab zu reservieren auf: Lions Eisstockbahn \n  \nUnd all dies an einem neuen Platzerl: im kuscheligen und geschmückten Innenhof des Pfalzhof am Rathausplatz – ganz ohne Eintritt – vom 25.November bis 18.Dezember immer Freitag bis Sonntag\, 16:00 – 21:00 Uhr und zusätzlich am 08.Dezember. \n  \nWir freuen uns wie jedes Jahr in Klosterneuburg auf ein gemütliches Miteinander beim Lions Punsch. \nUnd da der beste Punsch mit Freunden noch besser schmeckt\, kommt einfach mit Familie\, Freunden\, Bekannten und teilt diese Veranstaltung mit eurem Netzwerk. Im Innenhof gibt es zeitgleich einen Christbaumverkauf\, der nicht nur für die passende optische Untermalung sorgt\, sondern Ihnen vielleicht auch die Gelegenheit gibt bei einem Glaserl Punsch gleich den passenden Baum für zu Hause zu finden. \n  \nIm Namen aller die Hilfe benötigen bedankt sich Euer Lions Club Klosterneuburg-Babenberg. \n  \n 
URL:https://lions.charity/event/lions-punsch-am-01-advent/
LOCATION:Pfalzhof\, Rathausplatz 18\, Klosterneuburg\, Niederösterreich\, 3400\, Österreich
CATEGORIES:Lions Punsch,Weihnachtsmarkt
ATTACH;FMTTYPE=image/jpeg:https://lions.charity/wp-content/uploads/2022/10/11-27-Pfalzhof-Punsch-Polarstern-1.jpg
ORGANIZER;CN="Lions Club Klosterneuburg-Babenberg":MAILTO:klosterneuburg@lions.charity
END:VEVENT
END:VCALENDAR